BEGIN:VCALENDAR
METHOD:PUBLISH
VERSION:2.0
CALSCALE:GREGORIAN
PRODID:-//NONSGML Sandhills Development\, LLC//NONSGML Sugar Calendar Fe
 eds v3.6.1//EN
X-WR-CALNAME:Community Yard Sale
X-WR-CALDESC:Humane Society of Harrisburg Area
X-WR-TIMEZONE:America/New_York
BEGIN:VTIMEZONE
TZID:America/New_York
BEGIN:STANDARD
TZOFFSETFROM:-0400
TZOFFSETTO:-0500
DTSTART:20221106T060000
TZNAME:EST
END:STANDARD
BEGIN:DAYLIGHT
TZOFFSETFROM:-0500
TZOFFSETTO:-0400
DTSTART:20230312T070000
TZNAME:EDT
END:DAYLIGHT
END:VTIMEZONE
BEGIN:VTIMEZONE
TZID:America/New_York
BEGIN:STANDARD
TZOFFSETFROM:-0400
TZOFFSETTO:-0500
DTSTART:20221106T060000
TZNAME:EST
END:STANDARD
BEGIN:DAYLIGHT
TZOFFSETFROM:-0500
TZOFFSETTO:-0400
DTSTART:20230312T070000
TZNAME:EDT
END:DAYLIGHT
END:VTIMEZONE
BEGIN:VEVENT
SUMMARY:Community Yard Sale
DESCRIPTION:Shelter Buddies Yard Sale featuring a huge selection of item
 s. All money rasied by the Shelter Buddies supports veterinary expenses 
 and enrichment item purchases for the shelter residents.
URL;VALUE=URI:https://humanesocietyhbg.org/events/community-yard-sale/
UID:urn:uuid:26666de3-69c0-40db-9536-48da4c46f263
STATUS:CONFIRMED
ORGANIZER:
DTSTAMP:20260419T133921Z
DTSTART;TZID=America/New_York:20230506T080000
DTEND;TZID=America/New_York:20230506T130000
LOCATION:4504 Coventry Road  \nHarrisburg\, PA 17109
END:VEVENT
END:VCALENDAR